BEGIN:VCALENDAR
VERSION:2.0
PRODID:-//wp-events-plugin.com//7.2.3.1//EN
TZID:Europe/Berlin
X-WR-TIMEZONE:Europe/Berlin
BEGIN:VEVENT
UID:312@hansimusic.de
DTSTART;TZID=Europe/Berlin:20250828T190000
DTEND;TZID=Europe/Berlin:20250828T220000
DTSTAMP:20250724T090022Z
URL:https://www.hansimusic.de/veranstaltungen/biergarten-im-burgpark-2/
SUMMARY:Biergarten im Burgpark
DESCRIPTION:https://biergarten-am-burgpark.com/
ATTACH;FMTTYPE=image/jpeg:https://www.hansimusic.de/wp-content/uploads/202
 1/08/Plakat-Liedermacher-Hochformat-scaled.jpg
CATEGORIES:After Work Party,Austropop,Biergarten
LOCATION:Biergarten am Burgpark\, Auf der Mainspitze 21\, Gustavsburg\, 654
 62\, Deutschland
GEO:49.995901;8.308579
X-APPLE-STRUCTURED-LOCATION;VALUE=URI;X-ADDRESS=Auf der Mainspitze 21\, Gus
 tavsburg\, 65462\, Deutschland;X-APPLE-RADIUS=100;X-TITLE=Biergarten am Bu
 rgpark:geo:49.995901,8.308579
END:VEVENT
BEGIN:VTIMEZONE
TZID:Europe/Berlin
X-LIC-LOCATION:Europe/Berlin
BEGIN:DAYLIGHT
DTSTART:20250330T030000
TZOFFSETFROM:+0100
TZOFFSETTO:+0200
TZNAME:CEST
END:DAYLIGHT
END:VTIMEZONE
END:VCALENDAR