BEGIN:VCALENDAR
VERSION:2.0
PRODID:-//wp-events-plugin.com//7.2.3.1//EN
TZID:Europe/Berlin
X-WR-TIMEZONE:Europe/Berlin
BEGIN:VEVENT
UID:350@hansimusic.de
DTSTART;TZID=Europe/Berlin:20260502T190000
DTEND;TZID=Europe/Berlin:20260502T230000
DTSTAMP:20260310T155703Z
URL:https://www.hansimusic.de/veranstaltungen/firmenjubilaeum-heizungsbau-
 haufkeil-trebur/
SUMMARY:Firmenjubiläum Heizungsbau Hauf&Keil Trebur
DESCRIPTION:https://haufundkeil.de/
ATTACH;FMTTYPE=image/jpeg:https://www.hansimusic.de/wp-content/uploads/202
 0/04/Plakat-Entertainment-Hochformat-scaled.jpg
CATEGORIES:Biergarten,Bierzelt,Festzelt
LOCATION:Firma Hauf&Keil\, Adam-Opel-Straße 13a\, Trebur\, 65468\, Deutsch
 land
X-APPLE-STRUCTURED-LOCATION;VALUE=URI;X-ADDRESS=Adam-Opel-Straße 13a\, Tre
 bur\, 65468\, Deutschland;X-APPLE-RADIUS=100;X-TITLE=Firma Hauf&Keil:geo:0
 ,0
END:VEVENT
BEGIN:VTIMEZONE
TZID:Europe/Berlin
X-LIC-LOCATION:Europe/Berlin
BEGIN:DAYLIGHT
DTSTART:20260329T030000
TZOFFSETFROM:+0100
TZOFFSETTO:+0200
TZNAME:CEST
END:DAYLIGHT
END:VTIMEZONE
END:VCALENDAR