BEGIN:VCALENDAR
VERSION:2.0
PRODID:-//wp-events-plugin.com//7.2.3.1//EN
TZID:Europe/Berlin
X-WR-TIMEZONE:Europe/Berlin
BEGIN:VEVENT
UID:289@hansimusic.de
DTSTART;TZID=Europe/Berlin:20250510T110000
DTEND;TZID=Europe/Berlin:20250510T130000
DTSTAMP:20250402T064612Z
URL:https://www.hansimusic.de/veranstaltungen/fruehschoppen-doeg-wetzlar-a
 uf-dem-eisenmarkt/
SUMMARY:Frühschoppen DÖG Wetzlar auf dem Eisenmarkt
DESCRIPTION:
ATTACH;FMTTYPE=image/jpeg:https://www.hansimusic.de/wp-content/uploads/202
 0/04/Plakat-Entertainment-Hochformat-scaled.jpg
CATEGORIES:Frühschoppen
LOCATION:Bühne Eisenmarkt Wetzlar\, Eisenmarkt 1\, Wetzlar\, 35578\, Deuts
 chland
X-APPLE-STRUCTURED-LOCATION;VALUE=URI;X-ADDRESS=Eisenmarkt 1\, Wetzlar\, 35
 578\, Deutschland;X-APPLE-RADIUS=100;X-TITLE=Bühne Eisenmarkt Wetzlar:geo
 :0,0
END:VEVENT
BEGIN:VTIMEZONE
TZID:Europe/Berlin
X-LIC-LOCATION:Europe/Berlin
BEGIN:DAYLIGHT
DTSTART:20250330T030000
TZOFFSETFROM:+0100
TZOFFSETTO:+0200
TZNAME:CEST
END:DAYLIGHT
END:VTIMEZONE
END:VCALENDAR