BEGIN:VCALENDAR
VERSION:2.0
PRODID:-//wp-events-plugin.com//7.2.3.1//EN
TZID:Europe/Berlin
X-WR-TIMEZONE:Europe/Berlin
BEGIN:VEVENT
UID:24@hansimusic.de
DTSTART;TZID=Europe/Berlin:20200907T113000
DTEND;TZID=Europe/Berlin:20200907T150000
DTSTAMP:20200811T153149Z
URL:https://www.hansimusic.de/veranstaltungen/kerbefruehschoppen-sv-07-bis
 chofsheim-e-v/
SUMMARY:Kerbefrühschoppen SV 07 Bischofsheim e. V.
DESCRIPTION:Ich freue mich sehr beim SV 07 Bischofsheim e.V. zu Gast zu sei
 n.\nDes wird a Gaudi!\nBis bald\,\nEuer Hansi\nhttps://www.sv07bischofshei
 m.de/events/kerbefruehschoppen-mit-hansi-schitter
ATTACH;FMTTYPE=image/jpeg:https://www.hansimusic.de/wp-content/uploads/202
 0/04/Plakat-Entertainer-Querformat.jpg
CATEGORIES:Fest,Frühschoppen,Kerb,Party
LOCATION:Vereinsgelände SV 07 Bischofsheim\, Ginsheimer Landstr. 13\, Bisc
 hofsheim\, 65474\, Deutschland
GEO:49.97742;8.34792
X-APPLE-STRUCTURED-LOCATION;VALUE=URI;X-ADDRESS=Ginsheimer Landstr. 13\, Bi
 schofsheim\, 65474\, Deutschland;X-APPLE-RADIUS=100;X-TITLE=Vereinsgeländ
 e SV 07 Bischofsheim:geo:49.97742,8.34792
END:VEVENT
BEGIN:VTIMEZONE
TZID:Europe/Berlin
X-LIC-LOCATION:Europe/Berlin
BEGIN:DAYLIGHT
DTSTART:20200329T030000
TZOFFSETFROM:+0100
TZOFFSETTO:+0200
TZNAME:CEST
END:DAYLIGHT
END:VTIMEZONE
END:VCALENDAR