BEGIN:VCALENDAR
VERSION:2.0
PRODID:-//wp-events-plugin.com//7.2.3.1//EN
TZID:Europe/Berlin
X-WR-TIMEZONE:Europe/Berlin
BEGIN:VEVENT
UID:349@hansimusic.de
DTSTART;TZID=Europe/Berlin:20260426T130000
DTEND;TZID=Europe/Berlin:20260426T180000
DTSTAMP:20260310T154923Z
URL:https://www.hansimusic.de/veranstaltungen/streetfood-festival-limburg-
 2/
SUMMARY:Streetfood Festival Limburg
DESCRIPTION:https://street-food-market.de/event/%F0%9F%93%85limburg%F0%9F%8
 D%94-street-food-festival/
ATTACH;FMTTYPE=image/jpeg:https://www.hansimusic.de/wp-content/uploads/202
 0/02/Hansi_live_Gitarre.jpg
CATEGORIES:Street Food Festival
LOCATION:Streetfood Festival Limburg\, Ste.-Foy-Straße 23\, Limburg\, 6554
 9\, Deutschland
X-APPLE-STRUCTURED-LOCATION;VALUE=URI;X-ADDRESS=Ste.-Foy-Straße 23\, Limbu
 rg\, 65549\, Deutschland;X-APPLE-RADIUS=100;X-TITLE=Streetfood Festival Li
 mburg:geo:0,0
END:VEVENT
BEGIN:VTIMEZONE
TZID:Europe/Berlin
X-LIC-LOCATION:Europe/Berlin
BEGIN:DAYLIGHT
DTSTART:20260329T030000
TZOFFSETFROM:+0100
TZOFFSETTO:+0200
TZNAME:CEST
END:DAYLIGHT
END:VTIMEZONE
END:VCALENDAR