BEGIN:VCALENDAR
VERSION:2.0
PRODID:-//wp-events-plugin.com//7.2.3.1//EN
TZID:Europe/Berlin
X-WR-TIMEZONE:Europe/Berlin
BEGIN:VEVENT
UID:255@hansimusic.de
DTSTART;TZID=Europe/Berlin:20240921T160000
DTEND;TZID=Europe/Berlin:20240921T210000
DTSTAMP:20240821T104240Z
URL:https://www.hansimusic.de/veranstaltungen/wirtshauswiesen-waldgaststae
 tte-meisterturm/
SUMMARY:Wirtshauswiesen Waldgaststätte Meisterturm
DESCRIPTION:https://www.meisterturm.de/
ATTACH;FMTTYPE=image/jpeg:https://www.hansimusic.de/wp-content/uploads/202
 0/07/Hansi-mit-Steirischer-vor-Holzwand.jpg
CATEGORIES:Biergarten,Oktoberfest
LOCATION:Meisterturm Hofheim / Taunus\, Mesterturm 1\, Hofheim / Taunus\, 6
 5719\, Deutschland
GEO:50.098156;8.436578
X-APPLE-STRUCTURED-LOCATION;VALUE=URI;X-ADDRESS=Mesterturm 1\, Hofheim / Ta
 unus\, 65719\, Deutschland;X-APPLE-RADIUS=100;X-TITLE=Meisterturm Hofheim 
 / Taunus:geo:50.098156,8.436578
END:VEVENT
BEGIN:VTIMEZONE
TZID:Europe/Berlin
X-LIC-LOCATION:Europe/Berlin
BEGIN:DAYLIGHT
DTSTART:20240331T030000
TZOFFSETFROM:+0100
TZOFFSETTO:+0200
TZNAME:CEST
END:DAYLIGHT
END:VTIMEZONE
END:VCALENDAR